BEGIN:VCALENDAR
VERSION:2.0
PRODID:-//Date iCal//NONSGML kigkonsult.se iCalcreator 2.20.2//
METHOD:PUBLISH
BEGIN:VTIMEZONE
TZID:America/Toronto
BEGIN:STANDARD
DTSTART:20251102T020000
TZOFFSETFROM:-0400
TZOFFSETTO:-0500
TZNAME:EST
END:STANDARD
BEGIN:DAYLIGHT
DTSTART:20260308T020000
TZOFFSETFROM:-0500
TZOFFSETTO:-0400
TZNAME:EDT
END:DAYLIGHT
END:VTIMEZONE
BEGIN:VEVENT
UID:calendar.3925.events_uoft_date.0@www.religion.utoronto.ca
CREATED:20251111T185400Z
DESCRIPTION:\nWhen and Where: \nThursday, February 12, 2026 1:00 pm to 3:
 00 pm \n Zoom / JHB 100 \n Jackman Humanities Building \n 170 St George St
 reet, Toronto ON M5R 2M8 \n\nSpeakers \nDean Sharpe \n\nDescription: \nFo
 r the Zoom meeting link, contact Fereshteh Hashemi, Graduate Administrat
 or, religion.grad@utoronto.ca. Workshops are targeted to specific cohort 
 years, conferring skills needed at precise points in the PhD program, bu
 t all of them are open to all graduate students. Graduate students are wel
 come to attend any seminar and should keep track of their own attendance.S
 ee this guide for workshop cohort details \n170 St George Street, Toronto
  ON M5R 2M8 \n\nCategories \n Professionalization \n\nAudiences \n Graduat
 e Students
DTSTART;TZID=America/Toronto:20260212T130000
DTEND;TZID=America/Toronto:20260212T150000
LAST-MODIFIED:20251111T192217Z
LOCATION:170 St George Street, Toronto ON M5R 2M8
SUMMARY:Professionalization Series - The Ethics Approval Process
URL;TYPE=URI:https://www.religion.utoronto.ca/events/professionalization-20
 260212
END:VEVENT
END:VCALENDAR
