BEGIN:VCALENDAR
VERSION:2.0
PRODID:-//Date iCal//NONSGML kigkonsult.se iCalcreator 2.20.2//
METHOD:PUBLISH
BEGIN:VTIMEZONE
TZID:America/Toronto
BEGIN:STANDARD
DTSTART:20251102T020000
TZOFFSETFROM:-0400
TZOFFSETTO:-0500
TZNAME:EST
END:STANDARD
BEGIN:DAYLIGHT
DTSTART:20260308T020000
TZOFFSETFROM:-0500
TZOFFSETTO:-0400
TZNAME:EDT
END:DAYLIGHT
END:VTIMEZONE
BEGIN:VEVENT
UID:calendar.3924.events_uoft_date.0@www.religion.utoronto.ca
CREATED:20251111T185150Z
DESCRIPTION:\nWhen and Where: \nThursday, January 29, 2026 11:00 am to 1:
 00 pm \n Zoom / JHB 100 \n Jackman Humanities Building \n 170 St George St
 reet, Toronto ON M5R 2M8 \n\nSpeakers \nJane Freeman Kyle Smith \n\nDescr
 iption: \nFor the Zoom meeting link, contact Fereshteh Hashemi, Graduate
  Administrator, religion.grad@utoronto.ca. Workshops are targeted to spec
 ific cohort years, conferring skills needed at precise points in the PhD 
 program, but all of them are open to all graduate students. Graduate stud
 ents are welcome to attend any seminar and should keep track of their own 
 attendance.See this guide for workshop cohort year details \n170 St George
  Street, Toronto ON M5R 2M8 \n\nCategories \n Professionalization \n\nAud
 iences \n Graduate Students
DTSTART;TZID=America/Toronto:20260129T110000
DTEND;TZID=America/Toronto:20260129T130000
LAST-MODIFIED:20251111T192245Z
LOCATION:170 St George Street, Toronto ON M5R 2M8
SUMMARY:Professionalization Series - Use of AI in writing dissertations
URL;TYPE=URI:https://www.religion.utoronto.ca/events/professionalization-20
 260129
END:VEVENT
END:VCALENDAR
