BEGIN:VCALENDAR
VERSION:2.0
PRODID:-//Date iCal//NONSGML kigkonsult.se iCalcreator 2.20.2//
METHOD:PUBLISH
BEGIN:VTIMEZONE
TZID:America/Toronto
BEGIN:STANDARD
DTSTART:20251102T020000
TZOFFSETFROM:-0400
TZOFFSETTO:-0500
TZNAME:EST
END:STANDARD
BEGIN:DAYLIGHT
DTSTART:20250309T020000
TZOFFSETFROM:-0500
TZOFFSETTO:-0400
RDATE:20260308T020000
TZNAME:EDT
END:DAYLIGHT
END:VTIMEZONE
BEGIN:VEVENT
UID:calendar.3878.events_uoft_date.0@www.religion.utoronto.ca
CREATED:20250828T180259Z
DESCRIPTION:\nWhen and Where: \nThursday, September 11, 2025 10:00 am to 
 12:00 pm \n In-person, location provided on registration \n\nSpeakers \nD
 an Newman \n\nDescription: \nWorkshop for Committee 3 (Anthropology)Regist
 erQuestions? Contact Fereshteh Hashemi, Graduate Administrator religion.g
 rad@utoronto.ca.Workshops are targeted to specific cohort years, conferri
 ng skills needed at precise points in the PhD program, but all of them ar
 e open to all graduate students. Graduate students are welcome to attend a
 ny seminar and should keep track of their own attendance.See this guide fo
 r workshop cohort year details \n\nCategories \n Professionalization \n\nA
 udiences \n Graduate Students
DTSTART;TZID=America/Toronto:20250911T100000
DTEND;TZID=America/Toronto:20250911T120000
LAST-MODIFIED:20250828T194331Z
SUMMARY:Professionalization Series - Grant Writing Workshop Committee 3
URL;TYPE=URI:https://www.religion.utoronto.ca/events/professionalization-20
 250911a
END:VEVENT
END:VCALENDAR
