BEGIN:VCALENDAR
VERSION:2.0
PRODID:-//Date iCal//NONSGML kigkonsult.se iCalcreator 2.20.2//
METHOD:PUBLISH
BEGIN:VTIMEZONE
TZID:America/Toronto
BEGIN:STANDARD
DTSTART:20251102T020000
TZOFFSETFROM:-0400
TZOFFSETTO:-0500
TZNAME:EST
END:STANDARD
BEGIN:DAYLIGHT
DTSTART:20260308T020000
TZOFFSETFROM:-0500
TZOFFSETTO:-0400
TZNAME:EDT
END:DAYLIGHT
END:VTIMEZONE
BEGIN:VEVENT
UID:calendar.3841.events_uoft_date.0@www.religion.utoronto.ca
CREATED:20250815T142201Z
DESCRIPTION:\nWhen and Where: \nThursday, October 23, 2025 1:00 pm to 2:3
 0 pm \n\nCategories \n Meeting \n\nAudiences \n DSR Faculty & Staff
DTSTART;TZID=America/Toronto:20251023T130000
DTEND;TZID=America/Toronto:20251023T143000
LAST-MODIFIED:20250815T142201Z
SUMMARY:DSR Department Meeting
URL;TYPE=URI:https://www.religion.utoronto.ca/events/dsr-department-meeting
 -20251023
END:VEVENT
END:VCALENDAR
